BEGIN:VCALENDAR
VERSION:2.0
PRODID:gruene-flintbek.de
METHOD:PUBLISH
BEGIN:VTIMEZONE
TZID:Europe/Berlin
X-LIC-LOCATION:Europe/Berlin
BEGIN:DAYLIGHT
TZOFFSETFROM:+0100
TZOFFSETTO:+0200
TZNAME:CEST
DTSTART:19700329T020000
RRULE:FREQ=YEARLY;INTERVAL=1;BYDAY=-1SU;BYMONTH=3
END:DAYLIGHT
BEGIN:STANDARD
TZOFFSETFROM:+0200
TZOFFSETTO:+0100
TZNAME:CET
DTSTART:19701025T030000
RRULE:FREQ=YEARLY;INTERVAL=1;BYDAY=-1SU;BYMONTH=10
END:STANDARD
END:VTIMEZONE
BEGIN:VEVENT
UID:2356f4bb2944b4564cd35aa38b61a034@gruene-flintbek.de
URL;VALUE=URI:https://gruene-flintbek.de/termine/vorstandssitzung-6/
LOCATION:Flintbek
SUMMARY:Vorstandssitzung
DESCRIPTION;ALTREP="data:text/html,%3Cspan%20class%3D%22button%22%3EDer%2
 0Ortsvorstand%20l%C3%A4dt%20zur%20mitglieder%C3%B6ffentlichen%20Ortsvorst
 andssitzung%20ein.%20%3C%2Fspan%3E%0D%0A%0D%0A%3Cspan%20class%3D%22button
 %22%3EDie%20Vorstandssitzung%20findet%20regelm%C3%A4%C3%9Fig%20am%202.%20
 Mi.%20des%20Monats%20statt.%3C%2Fspan%3E%0D%0A%0D%0AF%C3%BCr%20n%C3%A4her
 e%20Infos%20E-Mail%3A%20%3Ca%20href%3D%22mailto%3Avorstand%40gruene-flint
 bek.de%22%3Evorstand%28at%29gruene-flintbek.de%3C%2Fa%3E":Der Ortsvorstan
 d lädt zur mitgliederöffentlichen Ortsvorstandssitzung ein.\n\nDie Vors
 tandssitzung findet regelmäßig am 2. Mi. des Monats statt.\n\nFür näh
 ere Infos E-Mail: vorstand(at)gruene-flintbek.de
CLASS:PUBLIC
DTSTART;TZID=Europe/Berlin:20230208T190000
DTEND;TZID=Europe/Berlin:20230208T200000
DTSTAMP:20260424T232846
END:VEVENT
END:VCALENDAR